BEGIN:VCALENDAR
VERSION:2.0
PRODID:-//La Sumida Nursery - ECPv5.2.1.1//NONSGML v1.0//EN
CALSCALE:GREGORIAN
METHOD:PUBLISH
X-WR-CALNAME:La Sumida Nursery
X-ORIGINAL-URL:http://www.lasumida.com/wordpress
X-WR-CALDESC:Events for La Sumida Nursery
BEGIN:VTIMEZONE
TZID:America/Los_Angeles
BEGIN:DAYLIGHT
TZOFFSETFROM:-0800
TZOFFSETTO:-0700
TZNAME:PDT
DTSTART:20190310T100000
END:DAYLIGHT
BEGIN:STANDARD
TZOFFSETFROM:-0700
TZOFFSETTO:-0800
TZNAME:PST
DTSTART:20191103T090000
END:STANDARD
END:VTIMEZONE
BEGIN:VEVENT
DTSTART;TZID=America/Los_Angeles:20190209T100000
DTEND;TZID=America/Los_Angeles:20190209T113000
DTSTAMP:20260419T060553
CREATED:20170922T153837Z
LAST-MODIFIED:20190112T163829Z
UID:437-1549706400-1549711800@www.lasumida.com
SUMMARY:Backyard Orchard Culture with Tom Spellman of Dave Wilson Nursery
DESCRIPTION:Gain insights into planning and caring for your backyard orchard with expert Tom Spellman of Dave Wilson Nursery. Please note corrected date.
URL:http://www.lasumida.com/wordpress/event/backyard-orchard-culture-with-tom-spellman-of-dave-wilson-nursery/
LOCATION:La Sumida Nursery\, 165 South Patterson Avenue\, Santa Barbara\, CA\, 93111\, United States
ORGANIZER;CN="La%20Sumida%20Staff":MAILTO:nursery@lasumida.com
END:VEVENT
END:VCALENDAR