BEGIN:VCALENDAR
VERSION:2.0
PRODID:-//La Sumida Nursery - ECPv5.2.1.1//NONSGML v1.0//EN
CALSCALE:GREGORIAN
METHOD:PUBLISH
X-WR-CALNAME:La Sumida Nursery
X-ORIGINAL-URL:http://www.lasumida.com/wordpress
X-WR-CALDESC:Events for La Sumida Nursery
BEGIN:VTIMEZONE
TZID:America/Los_Angeles
BEGIN:DAYLIGHT
TZOFFSETFROM:-0800
TZOFFSETTO:-0700
TZNAME:PDT
DTSTART:20170312T100000
END:DAYLIGHT
BEGIN:STANDARD
TZOFFSETFROM:-0700
TZOFFSETTO:-0800
TZNAME:PST
DTSTART:20171105T090000
END:STANDARD
BEGIN:DAYLIGHT
TZOFFSETFROM:-0800
TZOFFSETTO:-0700
TZNAME:PDT
DTSTART:20180311T100000
END:DAYLIGHT
BEGIN:STANDARD
TZOFFSETFROM:-0700
TZOFFSETTO:-0800
TZNAME:PST
DTSTART:20181104T090000
END:STANDARD
END:VTIMEZONE
BEGIN:VEVENT
DTSTART;VALUE=DATE:20171225
DTEND;VALUE=DATE:20180103
DTSTAMP:20260419T061847
CREATED:20171120T223003Z
LAST-MODIFIED:20171219T000247Z
UID:629-1514160000-1514937599@www.lasumida.com
SUMMARY:Closed for the Holidays
DESCRIPTION:La Sumida Nursery will be closed from December 25\, 2017 through January 2\, 2018 so that our employees may spend the holidays with their families. We will reopen for business on Wednesday\, January 3\, 2018. Happy Holidays from La Sumida Nursery! We look forward to serving you in the new year.
URL:http://www.lasumida.com/wordpress/event/closed-for-the-holidays/
END:VEVENT
END:VCALENDAR