BEGIN:VCALENDAR
VERSION:2.0
PRODID:-//La Sumida Nursery - ECPv5.2.1.1//NONSGML v1.0//EN
CALSCALE:GREGORIAN
METHOD:PUBLISH
X-WR-CALNAME:La Sumida Nursery
X-ORIGINAL-URL:http://www.lasumida.com/wordpress
X-WR-CALDESC:Events for La Sumida Nursery
BEGIN:VTIMEZONE
TZID:America/Los_Angeles
BEGIN:DAYLIGHT
TZOFFSETFROM:-0800
TZOFFSETTO:-0700
TZNAME:PDT
DTSTART:20240310T100000
END:DAYLIGHT
BEGIN:STANDARD
TZOFFSETFROM:-0700
TZOFFSETTO:-0800
TZNAME:PST
DTSTART:20241103T090000
END:STANDARD
END:VTIMEZONE
BEGIN:VEVENT
DTSTART;VALUE=DATE:20240406
DTEND;VALUE=DATE:20240407
DTSTAMP:20260421T021100
CREATED:20170922T154131Z
LAST-MODIFIED:20240404T055403Z
UID:439-1712361600-1712447999@www.lasumida.com
SUMMARY:Our Rose Field Opens April 6
DESCRIPTION:The Rose Field at La Sumida Nursery opens Saturday\, April 6\, 2024. Featuring over 200 varieties of roses\, La Sumida is a destination stop for rose enthusiasts throughout the Western states! Come walk through our rose field with over an acre of roses in bloom. \nNote: Rose field may be closed occasionally for maintenance. We apologize for the inconvenience.
URL:http://www.lasumida.com/wordpress/event/rose-field-opens/
LOCATION:La Sumida Nursery\, 165 South Patterson Avenue\, Santa Barbara\, CA\, 93111\, United States
CATEGORIES:News
ATTACH;FMTTYPE=image/jpeg:http://www.lasumida.com/wordpress/wp-content/uploads/2017/09/rosefield_05.jpg
ORGANIZER;CN="La%20Sumida%20Staff":MAILTO:nursery@lasumida.com
END:VEVENT
END:VCALENDAR